BEGIN:VCALENDAR
VERSION:2.0
PRODID:-//wp-events-plugin.com//7.2.3.1//EN
TZID:America/Denver
X-WR-TIMEZONE:America/Denver
BEGIN:VEVENT
UID:44@rmc-nargs.org
DTSTART;TZID=America/Denver:20260322T000000
DTEND;TZID=America/Denver:20260323T070000
DTSTAMP:20260323T135743Z
URL:https://rmc-nargs.org/events/50th-anniversary-events-and-merchandise/
SUMMARY:50th Anniversary Events and Merchandise (T-Shirt Orders Closed Marc
 h 22nd 6:00 pm)
DESCRIPTION:RMC 50th Anniversary T-Shirts\nRMC chapter is offering a T-shir
 t designed for our 50th anniversary. The shirt highlights our society’s 
 dedication to alpine plants and rock/crevice gardening. The shirt will be 
 available in white or oatmeal color and are 100% cotton. Women will have a
  V-neck option\, and a round neck will be available for everyone in unisex
  sizes. We will be offering several shirts for people to look at for sizin
 g help at our next 3 meetings.\n\nMembers can order a T-shirt below. Shirt
 s will be available for pickup at our plant sale held at Tagawa Gardens on
  April 10th and 11th. A small number of shirts will also be available for 
 purchase at other events\, but order below to be guaranteed your choice of
  size and color.\n\nThe BEST news? These shirts are only $25! So come chec
 k out the art\, pick a color and size\, and help celebrate our 50th annive
 rsary in style!\n\nWomen ordering the unisex shirt should order one size s
 maller. \n\nGallery\nView Women's White V-Neck Graphics on Front \n\nVie
 w White Unisex Crew Neck Graphics on Front\n\nView Women's Oatmeal Heather
  V-Neck Graphics on Front\n\nView Oatmeal  Heather Unisex Crew Neck Graph
 ics on Front\n\nView Oatmeal Heather Unisex Crew Neck Graphics on Back\nCo
 sts nothing today\; pay when picking up your T-shirt at the sale.
ATTACH;FMTTYPE=image/jpeg:https://rmc-nargs.org/wp-content/uploads/2026/01
 /T-Shirt-close-up.png
CATEGORIES:Rocky Mountain Chapter
END:VEVENT
BEGIN:VTIMEZONE
TZID:America/Denver
X-LIC-LOCATION:America/Denver
BEGIN:DAYLIGHT
DTSTART:20260308T030000
TZOFFSETFROM:-0700
TZOFFSETTO:-0600
TZNAME:MDT
END:DAYLIGHT
END:VTIMEZONE
END:VCALENDAR