BEGIN:VCALENDAR
VERSION:2.0
PRODID:-//wp-events-plugin.com//7.2.3.1//EN
TZID:America/Denver
X-WR-TIMEZONE:America/Denver
BEGIN:VEVENT
UID:15@rmc-nargs.org
DTSTART;TZID=America/Denver:20250730T173000
DTEND;TZID=America/Denver:20250730T190000
DTSTAMP:20250724T233254Z
URL:https://rmc-nargs.org/events/alpine-explorers-following-in-their-footp
 rints-the-1887-grays-peak-trip-of-alice-eastwood-and-alfred-russel-wallace
 /
SUMMARY:Alpine Explorers! Following in Their Footprints: The 1887 Grays Pea
 k Trip of Alice Eastwood and Alfred Russel Wallace
DESCRIPTION:On July 19\, 1887\, Alice Eastwood and Alfred Russel Wallace be
 gan a Colorado journey together to explore the alpine plants of Grays Peak
 . Who were these people? How did they meet?  Where did they go and what d
 id they collect?\n\nCome hear their exciting story and how their adventure
  and collections were re-created over 135 years later by both Amy Schneide
 r and Betty Ford Alpine Gardens!\n\nAmy is an Assistant Curator in Horticu
 lture and has been at Denver Botanic Gardens since 2008.\n\nFor tickets\, 
 visit the Betty Ford Alpine Gardens website: Tickets
ATTACH;FMTTYPE=image/jpeg:https://rmc-nargs.org/wp-content/uploads/2025/07
 /Alice-Eastwood-2.jpg
CATEGORIES:Gardens and Nurseries
LOCATION:Betty Ford Alpine Gardens\, 522 S Frontage Road\, East Vail\, Colo
 rado\, 81657\, United States
X-APPLE-STRUCTURED-LOCATION;VALUE=URI;X-ADDRESS=522 S Frontage Road\, East 
 Vail\, Colorado\, 81657\, United States;X-APPLE-RADIUS=100;X-TITLE=Betty F
 ord Alpine Gardens:geo:0,0
END:VEVENT
BEGIN:VTIMEZONE
TZID:America/Denver
X-LIC-LOCATION:America/Denver
BEGIN:DAYLIGHT
DTSTART:20250309T030000
TZOFFSETFROM:-0700
TZOFFSETTO:-0600
TZNAME:MDT
END:DAYLIGHT
END:VTIMEZONE
END:VCALENDAR