BEGIN:VCALENDAR
VERSION:2.0
PRODID:-//wp-events-plugin.com//7.2.3.1//EN
TZID:America/Denver
X-WR-TIMEZONE:America/Denver
BEGIN:VEVENT
UID:30@rmc-nargs.org
DTSTART;TZID=America/Denver:20250926T080000
DTEND;TZID=America/Denver:20250927T170000
DTSTAMP:20250809T121318Z
URL:https://rmc-nargs.org/events/dbg-fall-plant-and-bulb-sale/
SUMMARY:DBG Fall Plant and Bulb Sale
DESCRIPTION:Admission is free\, but reservations are required.\nCredit/debi
 t cards and checks only\n10% member’s discount\; preview party Sept. 25\
 n4-6:30 p.m\; $ TBA.\n\nMore information:\n\nhttps://www.botanicgardens.or
 g/events/special-events/fall-plant-bulb-sale
ATTACH;FMTTYPE=image/jpeg:https://rmc-nargs.org/wp-content/uploads/2025/08
 /DBG-bulbs.jpg
CATEGORIES:Plant Sales
LOCATION:Denver Botanic Gardens\, 1007 York St.\, Denver\, Colorado\, 80206
 \, United States
X-APPLE-STRUCTURED-LOCATION;VALUE=URI;X-ADDRESS=1007 York St.\, Denver\, Co
 lorado\, 80206\, United States;X-APPLE-RADIUS=100;X-TITLE=Denver Botanic G
 ardens:geo:0,0
END:VEVENT
BEGIN:VTIMEZONE
TZID:America/Denver
X-LIC-LOCATION:America/Denver
BEGIN:DAYLIGHT
DTSTART:20250309T030000
TZOFFSETFROM:-0700
TZOFFSETTO:-0600
TZNAME:MDT
END:DAYLIGHT
END:VTIMEZONE
END:VCALENDAR