BEGIN:VCALENDAR
VERSION:2.0
PRODID:-//wp-events-plugin.com//7.2.3.1//EN
TZID:America/Denver
X-WR-TIMEZONE:America/Denver
BEGIN:VEVENT
UID:14@rmc-nargs.org
DTSTART;TZID=America/Denver;VALUE=DATE:20260625
DTEND;TZID=America/Denver;VALUE=DATE:20260629
DTSTAMP:20260201T123207Z
URL:https://rmc-nargs.org/events/high-and-dry-annual-nargs-meeting/
SUMMARY:High & Dry in the Chinook Zone
DESCRIPTION:NARGS 2026\nAnnual General Meeting\nCalgary\, Alberta\, Canada\
 nThe Calgary Rock and Alpine Garden Society (CRAGS) invites rock gardeners
  to Calgary next June to celebrate rock-loving plants and rock gardens. Ca
 lgary is located on the western edge of the Northern Great Plains\, within
  sight of the Rocky Mountains. Owing to its elevation (1045 m\, 3400 ft) a
 nd associated cool nights\, Calgary provides favorable conditions for rock
  and alpine gardens\, despite the challenges of warm\, drying winds (chino
 oks) that punctuate otherwise cold winters. Nature abounds in the Calgary 
 region\, including five UNESCO\nWorld Heritage Sites with either alpine or
  dryland rock-loving vegetation within a three-hour drive.\n\nThe 2026 mee
 ting and associated activities promise to be engaging and informative. Con
 firmed speakers include Vojtech Holubec (Czech Republic)\, Jay Akerley (Ka
 mloops\, British Columbia)\, Todd Boland (St. John’s\, Newfoundland) and
  Stephanie Ferguson (Calgary\, Alberta). The opportunities and challenges 
 of gardening in the chinook zone will be discussed during visits to the pe
 rsonal gardens of CRAGS members and municipal rock gardens that the club h
 elped develop. Field trips to the nearby Front Range of the Rocky Mountain
 s will provide guided introduction to the native alpine flora.\nMore infor
 mation on the NARGS website
ATTACH;FMTTYPE=image/jpeg:https://rmc-nargs.org/wp-content/uploads/2023/10
 /circleLogo.png
CATEGORIES:North American Rock Garden Society (National)
LOCATION:Calgary\, Alberta\,  \, Calgary\, Alberta\, Canada
X-APPLE-STRUCTURED-LOCATION;VALUE=URI;X-ADDRESS= \, Calgary\, Alberta\, Can
 ada;X-APPLE-RADIUS=100;X-TITLE=Calgary\, Alberta:geo:0,0
END:VEVENT
BEGIN:VTIMEZONE
TZID:America/Denver
X-LIC-LOCATION:America/Denver
BEGIN:DAYLIGHT
DTSTART:20260308T030000
TZOFFSETFROM:-0700
TZOFFSETTO:-0600
TZNAME:MDT
END:DAYLIGHT
END:VTIMEZONE
END:VCALENDAR