BEGIN:VCALENDAR
VERSION:2.0
PRODID:-//wp-events-plugin.com//7.2.3.1//EN
TZID:America/Denver
X-WR-TIMEZONE:America/Denver
BEGIN:VEVENT
UID:39@rmc-nargs.org
DTSTART;TZID=America/Denver:20261011T000000
DTEND;TZID=America/Denver:20261011T000000
DTSTAMP:20260423T120938Z
URL:https://rmc-nargs.org/events/october-rock-garden-symposium/
SUMMARY:October Rocks - Member Annual Meeting & Program
DESCRIPTION:Save the Date!\n\nWe’re busy putting together our October Pro
 gram —check back around September for the full agenda and event booking.
 \n\nIn the meantime\, we’d love your help! Share your favorite rock gard
 en plant for each season by emailing vicepresident@rmc-nargs.org\, along w
 ith a photo and the month it was taken.  Your plant could be featured as 
 we proudly showcase our members’ favorites during the Symposium—let’
 s celebrate the beauty of our gardens together.
ATTACH;FMTTYPE=image/jpeg:https://rmc-nargs.org/wp-content/uploads/2025/12
 /IMG_6367.jpeg
CATEGORIES:Rocky Mountain Chapter
LOCATION:Denver Botanic Gardens - Gates Hall\, 1007 York St.\, Denver\, Col
 orado\, 80206\, United States
X-APPLE-STRUCTURED-LOCATION;VALUE=URI;X-ADDRESS=1007 York St.\, Denver\, Co
 lorado\, 80206\, United States;X-APPLE-RADIUS=100;X-TITLE=Denver Botanic G
 ardens - Gates Hall:geo:0,0
END:VEVENT
BEGIN:VTIMEZONE
TZID:America/Denver
X-LIC-LOCATION:America/Denver
BEGIN:DAYLIGHT
DTSTART:20260308T030000
TZOFFSETFROM:-0700
TZOFFSETTO:-0600
TZNAME:MDT
END:DAYLIGHT
END:VTIMEZONE
END:VCALENDAR